BEGIN:VCALENDAR
VERSION:2.0
CALSCALE:GREGORIAN
PRODID:-//Diputació de Barcelona//DibaCMS//EN
BEGIN:VEVENT
UID:1446
DTSTAMP:20260426T054433
DTSTART:20190508T110000
DTEND:20190508T133000
SUMMARY:Dates i horaris de maig del Bibliobús Cavall Bernat
LOCATION:Avinguda del Doctor Pere Tarrés, 3 
METHOD:PUBLISH
X-WR-CALNAME:monistrolc@monistroldecalders.cat
X-WR-TIMEZONE:Europe/Madrid
DESCRIPTION:Dimecres, 8 i 22 de maig, d'11 a 13.30 h. Per a més informació consulteula pàgina del web del Bibliobús Cavall Bernat.

URI:https://www.monistroldecalders.cat/actualitat/agenda/dates-i-horaris-de-maig-del-bibliobus-cavall-bernat.html
CLASS:PUBLIC
END:VEVENT
END:VCALENDAR
