BEGIN:VCALENDAR
VERSION:2.0
CALSCALE:GREGORIAN
PRODID:-//Diputació de Barcelona//DibaCMS//EN
BEGIN:VEVENT
UID:1469
DTSTAMP:20260425T185229
DTSTART:20161203T180000
DTEND:20161203T190000
SUMMARY:Benestar animal i tinença responsable
LOCATION:Casal Calders 
METHOD:PUBLISH
X-WR-CALNAME:monistrolc@monistroldecalders.cat
X-WR-TIMEZONE:Europe/Madrid
DESCRIPTION:Molta gent vol adoptar un animal de companyia però desconeix els tràmits, la diversitat d'entitats que es dediquen a aquest tasca i on adreçar-se.

URI:https://www.monistroldecalders.cat/actualitat/agenda/benestar-animal-i-tinenca-responsable.html
CLASS:PUBLIC
END:VEVENT
END:VCALENDAR
