BEGIN:VCALENDAR
VERSION:2.0
CALSCALE:GREGORIAN
PRODID:-//Diputació de Barcelona//DibaCMS//EN
BEGIN:VEVENT
UID:1473
DTSTAMP:20260426T034857
DTSTART:20160930T190000
DTEND:20160930T210000
SUMMARY:Reunió de la comissió de festes
LOCATION:C/ Vinya, 9 08275 Monistrol de Calders
METHOD:PUBLISH
X-WR-CALNAME:monistrolc@monistroldecalders.cat
X-WR-TIMEZONE:Europe/Madrid
DESCRIPTION:Divendres dia 30 de setembre, a les 19 h, ens trobem a la Sala Petita per crear la Comissió de festes. Està obert a tothom qui hi vulgui participar! 

Us hi esperem!

URI:https://www.monistroldecalders.cat/actualitat/agenda/reunio-de-la-comissio-de-festes.html
CLASS:PUBLIC
END:VEVENT
END:VCALENDAR
