BEGIN:VCALENDAR
VERSION:2.0
CALSCALE:GREGORIAN
PRODID:-//Diputació de Barcelona//DibaCMS//EN
BEGIN:VEVENT
UID:1478
DTSTAMP:20260426T022503
DTSTART:20190623T190000
DTEND:20190623T235900
SUMMARY:Arribada de la Flama del Canigó i revetlla de Sant Joan 2019
LOCATION:
METHOD:PUBLISH
X-WR-CALNAME:monistrolc@monistroldecalders.cat
X-WR-TIMEZONE:Europe/Madrid
DESCRIPTION:
URI:https://www.monistroldecalders.cat/actualitat/agenda/arribada-de-la-flama-del-canigo-i-revetlla-de-sant-joan-2019.html
CLASS:PUBLIC
END:VEVENT
END:VCALENDAR
