BEGIN:VCALENDAR
VERSION:2.0
CALSCALE:GREGORIAN
PRODID:-//Diputació de Barcelona//DibaCMS//EN
BEGIN:VEVENT
UID:1485
DTSTAMP:20260425T171656
DTSTART:20170218T000000
DTEND:20170219T000000
SUMMARY:Festa Major d'hivern 2017
LOCATION:
METHOD:PUBLISH
X-WR-CALNAME:monistrolc@monistroldecalders.cat
X-WR-TIMEZONE:Europe/Madrid
DESCRIPTION:
URI:https://www.monistroldecalders.cat/actualitat/agenda/festa-major-dhivern-2017.html
CLASS:PUBLIC
END:VEVENT
END:VCALENDAR
