BEGIN:VCALENDAR
VERSION:2.0
CALSCALE:GREGORIAN
PRODID:-//Diputació de Barcelona//DibaCMS//EN
BEGIN:VEVENT
UID:1543
DTSTAMP:20260426T034327
DTSTART:20190623T120000
DTEND:20190623T140000
SUMMARY:Vermut amb barret
LOCATION:Plaça de la Pedrera (davant del Bar Esport) 
METHOD:PUBLISH
X-WR-CALNAME:monistrolc@monistroldecalders.cat
X-WR-TIMEZONE:Europe/Madrid
DESCRIPTION:
URI:https://www.monistroldecalders.cat/actualitat/agenda/vermut-amb-barret.html
CLASS:PUBLIC
END:VEVENT
END:VCALENDAR
