BEGIN:VCALENDAR
VERSION:2.0
CALSCALE:GREGORIAN
PRODID:-//Diputació de Barcelona//DibaCMS//EN
BEGIN:VEVENT
UID:1549
DTSTAMP:20260426T034251
DTSTART:20190625T170000
DTEND:20190625T190000
SUMMARY:Xerrada "La intel·ligència emocional"
LOCATION:Ca la Mestra 
METHOD:PUBLISH
X-WR-CALNAME:monistrolc@monistroldecalders.cat
X-WR-TIMEZONE:Europe/Madrid
DESCRIPTION:
URI:https://www.monistroldecalders.cat/actualitat/agenda/xerrada-la-intelligencia-emocional.html
CLASS:PUBLIC
END:VEVENT
END:VCALENDAR
