BEGIN:VCALENDAR
VERSION:2.0
CALSCALE:GREGORIAN
PRODID:-//Diputació de Barcelona//DibaCMS//EN
BEGIN:VEVENT
UID:1560
DTSTAMP:20260425T215732
DTSTART:20190706T220000
DTEND:20190706T235900
SUMMARY:Vesprades monistrolenques
LOCATION: C/ de la Piscina (Urbanització Masia del Solà) 08275 Monistrol de Calders
METHOD:PUBLISH
X-WR-CALNAME:monistrolc@monistroldecalders.cat
X-WR-TIMEZONE:Europe/Madrid
DESCRIPTION:Bones vesprades Monistrolenques, a les 22 h.

URI:https://www.monistroldecalders.cat/actualitat/agenda/vesprades-monistrolenques.html
CLASS:PUBLIC
END:VEVENT
END:VCALENDAR
