BEGIN:VCALENDAR
VERSION:2.0
CALSCALE:GREGORIAN
PRODID:-//Diputació de Barcelona//DibaCMS//EN
BEGIN:VEVENT
UID:1561
DTSTAMP:20260426T034124
DTSTART:20190727T220000
DTEND:20190727T235900
SUMMARY:Vesprades monistrolenques
LOCATION: C/ de la Piscina (Urbanització Masia del Solà) 08275 Monistrol de Calders
METHOD:PUBLISH
X-WR-CALNAME:monistrolc@monistroldecalders.cat
X-WR-TIMEZONE:Europe/Madrid
DESCRIPTION:Mònica Guiteres (cantautora, cançó protesta i folk).

URI:https://www.monistroldecalders.cat/actualitat/agenda/1561-vesprades-monistrolenques.html
CLASS:PUBLIC
END:VEVENT
END:VCALENDAR
