BEGIN:VCALENDAR
VERSION:2.0
CALSCALE:GREGORIAN
PRODID:-//Diputació de Barcelona//DibaCMS//EN
BEGIN:VEVENT
UID:1564
DTSTAMP:20260426T034310
DTSTART:20190831T220000
DTEND:20190831T235900
SUMMARY:Vesprades monistrolenques
LOCATION: C/ de la Piscina (Urbanització Masia del Solà) 08275 Monistrol de Calders
METHOD:PUBLISH
X-WR-CALNAME:monistrolc@monistroldecalders.cat
X-WR-TIMEZONE:Europe/Madrid
DESCRIPTION:Cata Garriga (cançó d'autora i versions).

URI:https://www.monistroldecalders.cat/actualitat/agenda/1564-vesprades-monistrolenques.html
CLASS:PUBLIC
END:VEVENT
END:VCALENDAR
