BEGIN:VCALENDAR
VERSION:2.0
CALSCALE:GREGORIAN
PRODID:-//Diputació de Barcelona//DibaCMS//EN
BEGIN:VEVENT
UID:1565
DTSTAMP:20260425T215449
DTSTART:20190713T190000
DTEND:20190713T210000
SUMMARY:"Què és un govern popular?"
LOCATION:C/ Vinya, 9 08275 Monistrol de Calders
METHOD:PUBLISH
X-WR-CALNAME:monistrolc@monistroldecalders.cat
X-WR-TIMEZONE:Europe/Madrid
DESCRIPTION:
URI:https://www.monistroldecalders.cat/actualitat/agenda/que-es-un-govern-popular.html
CLASS:PUBLIC
END:VEVENT
END:VCALENDAR
