BEGIN:VCALENDAR
VERSION:2.0
CALSCALE:GREGORIAN
PRODID:-//Diputació de Barcelona//DibaCMS//EN
BEGIN:VEVENT
UID:1590
DTSTAMP:20260425T215429
DTSTART:20190804T130000
DTEND:20190804T140000
SUMMARY:Sorteig del Segon premi de Pintura Ràpida 2019
LOCATION:Placa de l'Església 
METHOD:PUBLISH
X-WR-CALNAME:monistrolc@monistroldecalders.cat
X-WR-TIMEZONE:Europe/Madrid
DESCRIPTION:Podeu comprar números per al sorteig a la Plaça de l'Església.

URI:https://www.monistroldecalders.cat/actualitat/agenda/sorteig-del-segon-premi-de-pintura-rapida-2019.html
CLASS:PUBLIC
END:VEVENT
END:VCALENDAR
