BEGIN:VCALENDAR
VERSION:2.0
CALSCALE:GREGORIAN
PRODID:-//Diputació de Barcelona//DibaCMS//EN
BEGIN:VEVENT
UID:1596
DTSTAMP:20260426T054347
DTSTART:20190801T230000
DTEND:20190801T235500
SUMMARY:Nits de concerts de Festa Major 2019
LOCATION:Plaça de l'Escorxador 
METHOD:PUBLISH
X-WR-CALNAME:monistrolc@monistroldecalders.cat
X-WR-TIMEZONE:Europe/Madrid
DESCRIPTION:Amb Cesc Freixas, DJ Nando i Luís de Frutos.

URI:https://www.monistroldecalders.cat/actualitat/agenda/nits-de-concerts-de-festa-major-2019.html
CLASS:PUBLIC
END:VEVENT
END:VCALENDAR
