BEGIN:VCALENDAR
VERSION:2.0
CALSCALE:GREGORIAN
PRODID:-//Diputació de Barcelona//DibaCMS//EN
BEGIN:VEVENT
UID:1598
DTSTAMP:20260425T215226
DTSTART:20190803T190000
DTEND:20190803T235500
SUMMARY:Nits de concerts de Festa Major 2019
LOCATION:Plaça Nova 08275 Monistrol de Calders
METHOD:PUBLISH
X-WR-CALNAME:monistrolc@monistroldecalders.cat
X-WR-TIMEZONE:Europe/Madrid
DESCRIPTION:Amb l'Orquesta KLAM i DJ's.

URI:https://www.monistroldecalders.cat/actualitat/agenda/1598-nits-de-concerts-de-festa-major-2019.html
CLASS:PUBLIC
END:VEVENT
END:VCALENDAR
