BEGIN:VCALENDAR
VERSION:2.0
CALSCALE:GREGORIAN
PRODID:-//Diputació de Barcelona//DibaCMS//EN
BEGIN:VEVENT
UID:1600
DTSTAMP:20260426T034800
DTSTART:20190803T160000
DTEND:20190804T130000
SUMMARY:35è Concurs de pintura ràpida
LOCATION:Plaça de l'Esgésia de Sant Feliu 
METHOD:PUBLISH
X-WR-CALNAME:monistrolc@monistroldecalders.cat
X-WR-TIMEZONE:Europe/Madrid
DESCRIPTION:Aquest any, celebrem el 35è concurs de pintura ràpida a Monistrol de Calders.

A l'Esglèsia de Sant feliu hi haurà l'exposició de pintures seleccionades d'aquests 35 anys.

També, recuperem el petit format i el concurs de dibuix infantil!

 

URI:https://www.monistroldecalders.cat/actualitat/agenda/35e-concurs-de-pintura-rapida.html
CLASS:PUBLIC
END:VEVENT
END:VCALENDAR
