BEGIN:VCALENDAR
VERSION:2.0
CALSCALE:GREGORIAN
PRODID:-//Diputació de Barcelona//DibaCMS//EN
BEGIN:VEVENT
UID:1602
DTSTAMP:20260421T125348
DTSTART:20190801T110000
DTEND:20190804T190000
SUMMARY:Exposició de labors i manualitats
LOCATION:
METHOD:PUBLISH
X-WR-CALNAME:monistrolc@monistroldecalders.cat
X-WR-TIMEZONE:Europe/Madrid
DESCRIPTION:Des del Casal l'Espiga, s'exposen diferents labors i manualitats a Ca la Mestra. 

URI:https://www.monistroldecalders.cat/actualitat/agenda/exposicio-de-labors-i-manualitats.html
CLASS:PUBLIC
END:VEVENT
END:VCALENDAR
