BEGIN:VCALENDAR
VERSION:2.0
CALSCALE:GREGORIAN
PRODID:-//Diputació de Barcelona//DibaCMS//EN
BEGIN:VEVENT
UID:1607
DTSTAMP:20260425T231243
DTSTART:20190731T130000
DTEND:20190810T235500
SUMMARY:Concurs de fotografia Instagram Festa Major de Monistrol de Calders 2019
LOCATION:
METHOD:PUBLISH
X-WR-CALNAME:monistrolc@monistroldecalders.cat
X-WR-TIMEZONE:Europe/Madrid
DESCRIPTION:
URI:https://www.monistroldecalders.cat/actualitat/agenda/concurs-de-fotografia-instagram-festa-major-de-monistrol-de-calders-2019.html
CLASS:PUBLIC
END:VEVENT
END:VCALENDAR
