BEGIN:VCALENDAR
VERSION:2.0
CALSCALE:GREGORIAN
PRODID:-//Diputació de Barcelona//DibaCMS//EN
BEGIN:VEVENT
UID:1614
DTSTAMP:20260426T034235
DTSTART:20190819T170000
DTEND:20190821T200000
SUMMARY:Mural d'ombres
LOCATION: C/ de la Piscina (Urbanització Masia del Solà) 08275 Monistrol de Calders
METHOD:PUBLISH
X-WR-CALNAME:monistrolc@monistroldecalders.cat
X-WR-TIMEZONE:Europe/Madrid
DESCRIPTION:A càrrec de Marianna Tzoumaras (artista local).

Amb la col·laboració del grup de treball de cultura i patrimoni.

URI:https://www.monistroldecalders.cat/actualitat/agenda/mural-dombres.html
CLASS:PUBLIC
END:VEVENT
END:VCALENDAR
