BEGIN:VCALENDAR
VERSION:2.0
CALSCALE:GREGORIAN
PRODID:-//Diputació de Barcelona//DibaCMS//EN
BEGIN:VEVENT
UID:1615
DTSTAMP:20260425T232157
DTSTART:20190907T120000
DTEND:20190907T133000
SUMMARY:Com serà la nova Plaça de l'Escorxador?
LOCATION:Sala Petita. Ajuntament de Monistrol de Calders 
METHOD:PUBLISH
X-WR-CALNAME:monistrolc@monistroldecalders.cat
X-WR-TIMEZONE:Europe/Madrid
DESCRIPTION:
URI:https://www.monistroldecalders.cat/actualitat/agenda/com-sera-la-nova-placa-de-lescorxador.html
CLASS:PUBLIC
END:VEVENT
END:VCALENDAR
