BEGIN:VCALENDAR
VERSION:2.0
CALSCALE:GREGORIAN
PRODID:-//Diputació de Barcelona//DibaCMS//EN
BEGIN:VEVENT
UID:1639
DTSTAMP:20260426T055331
DTSTART:20191109T170000
DTEND:20191109T200000
SUMMARY:DESCOBRIM I DECONSTRUÏM LA SEXUALITAT DEL 2020
LOCATION:
METHOD:PUBLISH
X-WR-CALNAME:monistrolc@monistroldecalders.cat
X-WR-TIMEZONE:Europe/Madrid
DESCRIPTION:Dia 9 de novembre. Sessió 1 - I això del sexe, què és?

URI:https://www.monistroldecalders.cat/actualitat/agenda/descobrim-i-deconstrum-la-sexualitat-del-2020.html
CLASS:PUBLIC
END:VEVENT
END:VCALENDAR
