BEGIN:VCALENDAR
VERSION:2.0
CALSCALE:GREGORIAN
PRODID:-//Diputació de Barcelona//DibaCMS//EN
BEGIN:VEVENT
UID:1640
DTSTAMP:20260425T190527
DTSTART:20191116T170000
DTEND:20191116T200000
SUMMARY:DESCOBRIM I DECONSTRUÏM  LA SEXUALITAT DEL 2020
LOCATION:
METHOD:PUBLISH
X-WR-CALNAME:monistrolc@monistroldecalders.cat
X-WR-TIMEZONE:Europe/Madrid
DESCRIPTION:Dia 13 de novembre · Sessió 2 - La recerca del plaer.

URI:https://www.monistroldecalders.cat/actualitat/agenda/1640-descobrim-i-deconstrum-la-sexualitat-del-2020.html
CLASS:PUBLIC
END:VEVENT
END:VCALENDAR
