BEGIN:VCALENDAR
VERSION:2.0
CALSCALE:GREGORIAN
PRODID:-//Diputació de Barcelona//DibaCMS//EN
BEGIN:VEVENT
UID:1641
DTSTAMP:20260425T203644
DTSTART:20191123T170000
DTEND:20191123T200000
SUMMARY:DESCOBRIM I DECONSTRUÏM LA SEXUALITAT DEL 2020
LOCATION:
METHOD:PUBLISH
X-WR-CALNAME:monistrolc@monistroldecalders.cat
X-WR-TIMEZONE:Europe/Madrid
DESCRIPTION:Sessió 3 - Dificultats sexuals i nous paradigmes.

URI:https://www.monistroldecalders.cat/actualitat/agenda/1641-descobrim-i-deconstrum-la-sexualitat-del-2020.html
CLASS:PUBLIC
END:VEVENT
END:VCALENDAR
