BEGIN:VCALENDAR
VERSION:2.0
CALSCALE:GREGORIAN
PRODID:-//Diputació de Barcelona//DibaCMS//EN
BEGIN:VEVENT
UID:1642
DTSTAMP:20260426T035100
DTSTART:20191101T093000
DTEND:20191101T235500
SUMMARY:LA CASTANYADA, 1 DE NOVEMBRE DE 2019
LOCATION:
METHOD:PUBLISH
X-WR-CALNAME:monistrolc@monistroldecalders.cat
X-WR-TIMEZONE:Europe/Madrid
DESCRIPTION:A partir de les 10:30 i durant tot el matí, Concert de música clàssica al Cementiri Municipal.

 A Casa la Mestra  d'11:00 a 14:00, esmorza amb castanyes i moniatos i, després, vermut musical; de les 16:00 a les 20:00, jocs infantils i passatge del terror.

A les 21:30, Castanyada del Jovent .

Al Pavelló, a les 21:30, Castanyada Popular.

Després de sopar, a les 23:00, espectacle de sobretaula La rateta ja no escombra l'escaleta 

A l'acabar, NIT JOVE al pavelló.

URI:https://www.monistroldecalders.cat/actualitat/agenda/la-castanyada-1-de-novembre-de-2019.html
CLASS:PUBLIC
END:VEVENT
END:VCALENDAR
