BEGIN:VCALENDAR
VERSION:2.0
CALSCALE:GREGORIAN
PRODID:-//Diputació de Barcelona//DibaCMS//EN
BEGIN:VEVENT
UID:1643
DTSTAMP:20260426T034224
DTSTART:20191101T110000
DTEND:20191101T220000
SUMMARY:CASTANYADA  JOVE
LOCATION:
METHOD:PUBLISH
X-WR-CALNAME:monistrolc@monistroldecalders.cat
X-WR-TIMEZONE:Europe/Madrid
DESCRIPTION:
URI:https://www.monistroldecalders.cat/actualitat/agenda/castanyada-jove.html
CLASS:PUBLIC
END:VEVENT
END:VCALENDAR
