BEGIN:VCALENDAR
VERSION:2.0
CALSCALE:GREGORIAN
PRODID:-//Diputació de Barcelona//DibaCMS//EN
BEGIN:VEVENT
UID:1648
DTSTAMP:20260425T185730
DTSTART:20191108T100000
DTEND:20191108T130000
SUMMARY:MOU-TE AL MOIANÈS
LOCATION:Avinguda Pere Tarrés 
METHOD:PUBLISH
X-WR-CALNAME:monistrolc@monistroldecalders.cat
X-WR-TIMEZONE:Europe/Madrid
DESCRIPTION:Cicle de sortides pels municipis del Moianès, el primer divendres de mes.

Inscripcions al Consell Comarcal del Moianès: 93 820 80 00 o ccmn.atenciopersones@ccmoianes.net

URI:https://www.monistroldecalders.cat/actualitat/agenda/mou-te-al-moianes.html
CLASS:PUBLIC
END:VEVENT
END:VCALENDAR
