BEGIN:VCALENDAR
VERSION:2.0
CALSCALE:GREGORIAN
PRODID:-//Diputació de Barcelona//DibaCMS//EN
BEGIN:VEVENT
UID:1652
DTSTAMP:20260425T215720
DTSTART:20191112T000000
DTEND:20191112T000000
SUMMARY:L'ETIQUETATGE DE PRODUCTES ALIMENTARIS 
LOCATION:
METHOD:PUBLISH
X-WR-CALNAME:monistrolc@monistroldecalders.cat
X-WR-TIMEZONE:Europe/Madrid
DESCRIPTION:Dirigit a emprese elaboradores i comerços

 

URI:https://www.monistroldecalders.cat/actualitat/agenda/letiquetatge-de-productes-alimentaris-.html
CLASS:PUBLIC
END:VEVENT
END:VCALENDAR
