BEGIN:VCALENDAR
VERSION:2.0
CALSCALE:GREGORIAN
PRODID:-//Diputació de Barcelona//DibaCMS//EN
BEGIN:VEVENT
UID:1653
DTSTAMP:20260425T231457
DTSTART:20191113T150000
DTEND:20191113T170000
SUMMARY:L'ETIQUETATGE DE PRODUCTES ALIMENTARIS 
LOCATION:
METHOD:PUBLISH
X-WR-CALNAME:monistrolc@monistroldecalders.cat
X-WR-TIMEZONE:Europe/Madrid
DESCRIPTION:DIRIGIT A EMPRESE ELABORADORES I COMERÇOS 

URI:https://www.monistroldecalders.cat/actualitat/agenda/1653-letiquetatge-de-productes-alimentaris-.html
CLASS:PUBLIC
END:VEVENT
END:VCALENDAR
