BEGIN:VCALENDAR
VERSION:2.0
CALSCALE:GREGORIAN
PRODID:-//Diputació de Barcelona//DibaCMS//EN
BEGIN:VEVENT
UID:1665
DTSTAMP:20260425T191145
DTSTART:20191231T234500
DTEND:20200101T000000
SUMMARY:CAP D'ANY AL SOT 
LOCATION:
METHOD:PUBLISH
X-WR-CALNAME:monistrolc@monistroldecalders.cat
X-WR-TIMEZONE:Europe/Madrid
DESCRIPTION:
URI:https://www.monistroldecalders.cat/actualitat/agenda/cap-dany-al-sot-.html
CLASS:PUBLIC
END:VEVENT
END:VCALENDAR
