BEGIN:VCALENDAR
VERSION:2.0
CALSCALE:GREGORIAN
PRODID:-//Diputació de Barcelona//DibaCMS//EN
BEGIN:VEVENT
UID:1675
DTSTAMP:20260426T021326
DTSTART:20191219T000000
DTEND:20191219T000000
SUMMARY:Sortida de turisme per a gent gran
LOCATION:
METHOD:PUBLISH
X-WR-CALNAME:monistrolc@monistroldecalders.cat
X-WR-TIMEZONE:Europe/Madrid
DESCRIPTION:Sortida de turisme a la província de Barcelona.

Aquesta vegada, ens n’anem al Cabrerès, una comarca natural de la Catalunya central marcada pels seus paisatges i la seva gastronomia.

Data: dia 19 de desembre.

Sortides de diversos municipis:


	Castellterçol:       08.15 h
	Moià:                   08.30 h
	L’Estany:             08.40 h
	Oló:                     09.00 h


Dinarem a Cantonigròs i tornarem cap a les 6 de la tarda.

Preu: L’autocar i les visites són gratuïtes per als participants. Cost del dinar: 20 €.

Places limitades.

Inscripcions directament al Consell Comarcal.

Per qualsevol consulta, no dubteu a posar-vos en contacte amb mi (Clara 673 164 630).

URI:https://www.monistroldecalders.cat/actualitat/agenda/sortida-de-turisme-per-a-gent-gran.html
CLASS:PUBLIC
END:VEVENT
END:VCALENDAR
