BEGIN:VCALENDAR
VERSION:2.0
CALSCALE:GREGORIAN
PRODID:-//Diputació de Barcelona//DibaCMS//EN
BEGIN:VEVENT
UID:1682
DTSTAMP:20260425T190649
DTSTART:20200116T190000
DTEND:20200116T210000
SUMMARY:Entrega de premis concurs microrelats "Amb ulls d'infant"
LOCATION:Sala Petita  
METHOD:PUBLISH
X-WR-CALNAME:monistrolc@monistroldecalders.cat
X-WR-TIMEZONE:Europe/Madrid
DESCRIPTION:Entrega de  premis del concurs de microrelats  "amb ulls d'infant"

 

URI:https://www.monistroldecalders.cat/actualitat/agenda/entrega-de-premis-concurs-microrelats-amb-ulls-dinfant.html
CLASS:PUBLIC
END:VEVENT
END:VCALENDAR
