BEGIN:VCALENDAR
VERSION:2.0
CALSCALE:GREGORIAN
PRODID:-//Diputació de Barcelona//DibaCMS//EN
BEGIN:VEVENT
UID:1685
DTSTAMP:20260426T021655
DTSTART:20200119T190000
DTEND:20200119T200000
SUMMARY:ASSEMBLEA OBERTA DE LA COMISSIÓ DE FESTES 
LOCATION:
METHOD:PUBLISH
X-WR-CALNAME:monistrolc@monistroldecalders.cat
X-WR-TIMEZONE:Europe/Madrid
DESCRIPTION:
URI:https://www.monistroldecalders.cat/actualitat/agenda/assemblea-oberta-de-la-comissio-de-festes-.html
CLASS:PUBLIC
END:VEVENT
END:VCALENDAR
