BEGIN:VCALENDAR
VERSION:2.0
CALSCALE:GREGORIAN
PRODID:-//Diputació de Barcelona//DibaCMS//EN
BEGIN:VEVENT
UID:1686
DTSTAMP:20260425T202732
DTSTART:20200117T000000
DTEND:20200117T000000
SUMMARY:LA BOTIGUETA D'INTERCANVI
LOCATION:
METHOD:PUBLISH
X-WR-CALNAME:monistrolc@monistroldecalders.cat
X-WR-TIMEZONE:Europe/Madrid
DESCRIPTION:
URI:https://www.monistroldecalders.cat/actualitat/agenda/la-botigueta-dintercanvi.html
CLASS:PUBLIC
END:VEVENT
END:VCALENDAR
