BEGIN:VCALENDAR
VERSION:2.0
CALSCALE:GREGORIAN
PRODID:-//Diputació de Barcelona//DibaCMS//EN
BEGIN:VEVENT
UID:1696
DTSTAMP:20260426T055203
DTSTART:20200216T090000
DTEND:20200216T200000
SUMMARY:12a FESTA SANT ANTONI ABAT 
LOCATION:
METHOD:PUBLISH
X-WR-CALNAME:monistrolc@monistroldecalders.cat
X-WR-TIMEZONE:Europe/Madrid
DESCRIPTION:Durant tot el matí Fira de Sant Antoni als carrers de la Vinya, Torrent  i Sant Logari.

Passejada en ponis per els menuts.

URI:https://www.monistroldecalders.cat/actualitat/agenda/1696-12a-festa-sant-antoni-abat-.html
CLASS:PUBLIC
END:VEVENT
END:VCALENDAR
