BEGIN:VCALENDAR
VERSION:2.0
CALSCALE:GREGORIAN
PRODID:-//Diputació de Barcelona//DibaCMS//EN
BEGIN:VEVENT
UID:1698
DTSTAMP:20260425T215353
DTSTART:20200210T000000
DTEND:20200409T000000
SUMMARY:1r CONCURS LITERARI PREMI MARQUET DE LES ROQUES. NARRACIÓ CURTA I POESIA. SANT LLORENÇ SAVALL
LOCATION:
METHOD:PUBLISH
X-WR-CALNAME:monistrolc@monistroldecalders.cat
X-WR-TIMEZONE:Europe/Madrid
DESCRIPTION:
URI:https://www.monistroldecalders.cat/actualitat/agenda/1r-concurs-literari-premi-marquet-de-les-roques-narracio-curta-i-poesia-sant-llorenc-savall.html
CLASS:PUBLIC
END:VEVENT
END:VCALENDAR
