BEGIN:VCALENDAR
VERSION:2.0
CALSCALE:GREGORIAN
PRODID:-//Diputació de Barcelona//DibaCMS//EN
BEGIN:VEVENT
UID:1704
DTSTAMP:20260426T021227
DTSTART:20200216T180000
DTEND:20200214T000000
SUMMARY:Escola de Cinema al Moianès!
LOCATION:C/ de la Vinya, 1 08275 Monistrol de Calders
METHOD:PUBLISH
X-WR-CALNAME:monistrolc@monistroldecalders.cat
X-WR-TIMEZONE:Europe/Madrid
DESCRIPTION:Vine a conèixer el projecte de l'Escola Internacional de Cinema de l'Estany.

URI:https://www.monistroldecalders.cat/actualitat/agenda/1704-escola-de-cinema-al-moianes.html
CLASS:PUBLIC
END:VEVENT
END:VCALENDAR
