BEGIN:VCALENDAR
VERSION:2.0
CALSCALE:GREGORIAN
PRODID:-//Diputació de Barcelona//DibaCMS//EN
BEGIN:VEVENT
UID:1705
DTSTAMP:20260426T005049
DTSTART:20200619T000000
DTEND:20200719T000000
SUMMARY:4t FESTIVAL DE TITELLES DEL MOIANÈS
LOCATION:
METHOD:PUBLISH
X-WR-CALNAME:monistrolc@monistroldecalders.cat
X-WR-TIMEZONE:Europe/Madrid
DESCRIPTION:
URI:https://www.monistroldecalders.cat/actualitat/agenda/4t-festival-de-titelles-del-moianes.html
CLASS:PUBLIC
END:VEVENT
END:VCALENDAR
