BEGIN:VCALENDAR
VERSION:2.0
CALSCALE:GREGORIAN
PRODID:-//Diputació de Barcelona//DibaCMS//EN
BEGIN:VEVENT
UID:1707
DTSTAMP:20260426T021430
DTSTART:20200229T000000
DTEND:20200229T230000
SUMMARY:CARNASTOLTES A MONISTROL
LOCATION:Camp de Futbol s/n 08275 Monistrol de Calders
METHOD:PUBLISH
X-WR-CALNAME:monistrolc@monistroldecalders.cat
X-WR-TIMEZONE:Europe/Madrid
DESCRIPTION:
URI:https://www.monistroldecalders.cat/actualitat/agenda/carnastoltes-a-monistrol.html
CLASS:PUBLIC
END:VEVENT
END:VCALENDAR
