BEGIN:VCALENDAR
VERSION:2.0
CALSCALE:GREGORIAN
PRODID:-//Diputació de Barcelona//DibaCMS//EN
BEGIN:VEVENT
UID:1710
DTSTAMP:20260426T035527
DTSTART:20200310T000000
DTEND:20200407T000000
SUMMARY:TALLER EMPATIA I COMPASSIÓ
LOCATION:
METHOD:PUBLISH
X-WR-CALNAME:monistrolc@monistroldecalders.cat
X-WR-TIMEZONE:Europe/Madrid
DESCRIPTION:DIES 10,17,24 ,31 DE MARÇ I 7 D'ABRIL 

Treballarem dues fortales que afavoreixen la qualitat en les nostres relacions :entendre l'altre i tenir voluntat d'ajudar-lo.

URI:https://www.monistroldecalders.cat/actualitat/agenda/taller-empatia-i-compassio.html
CLASS:PUBLIC
END:VEVENT
END:VCALENDAR
