BEGIN:VCALENDAR
VERSION:2.0
CALSCALE:GREGORIAN
PRODID:-//Diputació de Barcelona//DibaCMS//EN
BEGIN:VEVENT
UID:1712
DTSTAMP:20260426T035557
DTSTART:20200307T000000
DTEND:20200308T000000
SUMMARY:8M Monistrol de Calders 
LOCATION:
METHOD:PUBLISH
X-WR-CALNAME:monistrolc@monistroldecalders.cat
X-WR-TIMEZONE:Europe/Madrid
DESCRIPTION:
URI:https://www.monistroldecalders.cat/actualitat/agenda/8m-monistrol-de-calders-.html
CLASS:PUBLIC
END:VEVENT
END:VCALENDAR
