BEGIN:VCALENDAR
VERSION:2.0
CALSCALE:GREGORIAN
PRODID:-//Diputació de Barcelona//DibaCMS//EN
BEGIN:VEVENT
UID:1715
DTSTAMP:20260426T021609
DTSTART:20200327T190000
DTEND:20200327T210000
SUMMARY:XERRADA CAMINS PÚBLICS I PARTICULARS CORRIOLS I DRET DE PAS 
LOCATION:
METHOD:PUBLISH
X-WR-CALNAME:monistrolc@monistroldecalders.cat
X-WR-TIMEZONE:Europe/Madrid
DESCRIPTION:Adreçat a tota mena d'usuaris del Medi Natural caminaires, ciclistes, motoristes, bosquerols ,caçadors, boletaires, genets, excursionistes, pagesos i ramaders, turistes i 4x4.

URI:https://www.monistroldecalders.cat/actualitat/agenda/xerrada-camins-publics-i-particulars-corriols-i-dret-de-pas-.html
CLASS:PUBLIC
END:VEVENT
END:VCALENDAR
