BEGIN:VCALENDAR
VERSION:2.0
CALSCALE:GREGORIAN
PRODID:-//Diputació de Barcelona//DibaCMS//EN
BEGIN:VEVENT
UID:1823
DTSTAMP:20260426T052616
DTSTART:20200712T120000
DTEND:20200712T140000
SUMMARY:PASSEJADA AMB BARRETS 
LOCATION:
METHOD:PUBLISH
X-WR-CALNAME:monistrolc@monistroldecalders.cat
X-WR-TIMEZONE:Europe/Madrid
DESCRIPTION:Barret, barretina, gorra , pamela , casc, o el que vulguis .

Tot s'hi val si ho portes al cap , et regalem un vermut i un pin 

URI:https://www.monistroldecalders.cat/actualitat/agenda/passejada-amb-barrets-.html
CLASS:PUBLIC
END:VEVENT
END:VCALENDAR
