BEGIN:VCALENDAR
VERSION:2.0
CALSCALE:GREGORIAN
PRODID:-//Diputació de Barcelona//DibaCMS//EN
BEGIN:VEVENT
UID:1831
DTSTAMP:20260426T053012
DTSTART:20200801T160000
DTEND:20200802T210000
SUMMARY:36è CONCURS DE  PINTURA RÀPIDA 
LOCATION:
METHOD:PUBLISH
X-WR-CALNAME:monistrolc@monistroldecalders.cat
X-WR-TIMEZONE:Europe/Madrid
DESCRIPTION:DIES 1 I 2 D'AGOST 

TEMA: MONISTROL I ELS SEU ENTORN URBÀ 

DIUMENGE DIA 2 AGOST A LA UNA DEL MIGDIA  A LA PLAÇA DE L'ESCORXADOR ES FARÀ EL SORTEIG DEL SEGON PREMI DE PINTURA RÀPIDA .

 

URI:https://www.monistroldecalders.cat/actualitat/agenda/36e-concurs-de-pintura-rapida-.html
CLASS:PUBLIC
END:VEVENT
END:VCALENDAR
