BEGIN:VCALENDAR
VERSION:2.0
CALSCALE:GREGORIAN
PRODID:-//Diputació de Barcelona//DibaCMS//EN
BEGIN:VEVENT
UID:1836
DTSTAMP:20260426T035516
DTSTART:20200807T220000
DTEND:20200807T230000
SUMMARY:VESPRADES  MONISTROLENQUES 2020
LOCATION:Plaça de l'Església 
METHOD:PUBLISH
X-WR-CALNAME:monistrolc@monistroldecalders.cat
X-WR-TIMEZONE:Europe/Madrid
DESCRIPTION:QUARTET CALDERS 

Obres de Haydn, Beethoven i Shostakovich

URI:https://www.monistroldecalders.cat/actualitat/agenda/1836-vesprades-monistrolenques-2020.html
CLASS:PUBLIC
END:VEVENT
END:VCALENDAR
