BEGIN:VCALENDAR
VERSION:2.0
CALSCALE:GREGORIAN
PRODID:-//Diputació de Barcelona//DibaCMS//EN
BEGIN:VEVENT
UID:1844
DTSTAMP:20260426T022442
DTSTART:20200916T170000
DTEND:20200927T100000
SUMMARY:JORNADES DE L'AIGUA A MONISTROL DE CALDERS 
LOCATION:
METHOD:PUBLISH
X-WR-CALNAME:monistrolc@monistroldecalders.cat
X-WR-TIMEZONE:Europe/Madrid
DESCRIPTION:
URI:https://www.monistroldecalders.cat/actualitat/agenda/jornades-de-laigua-a-monistrol-de-calders-.html
CLASS:PUBLIC
END:VEVENT
END:VCALENDAR
