BEGIN:VCALENDAR
VERSION:2.0
CALSCALE:GREGORIAN
PRODID:-//Diputació de Barcelona//DibaCMS//EN
BEGIN:VEVENT
UID:1845
DTSTAMP:20260426T035420
DTSTART:20200912T093000
DTEND:20200912T230000
SUMMARY:EL DIA DE LA RATAFIA 
LOCATION:
METHOD:PUBLISH
X-WR-CALNAME:monistrolc@monistroldecalders.cat
X-WR-TIMEZONE:Europe/Madrid
DESCRIPTION:DURANT TOT EL DIA ACTIVITATS A LA PLAÇA DE L'ESCORXADOR 

URI:https://www.monistroldecalders.cat/actualitat/agenda/el-dia-de-la-ratafia-.html
CLASS:PUBLIC
END:VEVENT
END:VCALENDAR
