BEGIN:VCALENDAR
VERSION:2.0
CALSCALE:GREGORIAN
PRODID:-//Diputació de Barcelona//DibaCMS//EN
BEGIN:VEVENT
UID:1853
DTSTAMP:20260426T035436
DTSTART:20201014T170000
DTEND:20201014T183000
SUMMARY:HORA DEL CONTE AMB MÒNICA TORRA 
LOCATION:
METHOD:PUBLISH
X-WR-CALNAME:monistrolc@monistroldecalders.cat
X-WR-TIMEZONE:Europe/Madrid
DESCRIPTION:DIMECRES DIA 14 D'OCTUBRE A LES 5 DE LA TARDA 

L'HORA DEL CONTE AMB LA MÒNICA TORRA 

URI:https://www.monistroldecalders.cat/actualitat/agenda/hora-del-conte-amb-monica-torra-.html
CLASS:PUBLIC
END:VEVENT
END:VCALENDAR
