BEGIN:VCALENDAR
VERSION:2.0
CALSCALE:GREGORIAN
PRODID:-//Diputació de Barcelona//DibaCMS//EN
BEGIN:VEVENT
UID:1856
DTSTAMP:20260426T053047
DTSTART:20201009T183000
DTEND:20210604T133000
SUMMARY:Classes de ioga a càrrec de Silvana Forte
LOCATION:Passatge Pavelló, s/n 08275 Monistrol de Calders
METHOD:PUBLISH
X-WR-CALNAME:monistrolc@monistroldecalders.cat
X-WR-TIMEZONE:Europe/Madrid
DESCRIPTION:Una proposta per fomentat la promoció de la salut i la prevenció de la malaltia, reduint les desigualtats de salut, de classe social i de gènere.

URI:https://www.monistroldecalders.cat/actualitat/agenda/classes-de-ioga-a-carrec-de-silvana-forte.html
CLASS:PUBLIC
END:VEVENT
END:VCALENDAR
