BEGIN:VCALENDAR
VERSION:2.0
CALSCALE:GREGORIAN
PRODID:-//Diputació de Barcelona//DibaCMS//EN
BEGIN:VEVENT
UID:1902
DTSTAMP:20260426T053828
DTSTART:20201219T100000
DTEND:20201219T140000
SUMMARY:Paradeta per la Marató Casal L'Espiga
LOCATION:
METHOD:PUBLISH
X-WR-CALNAME:monistrolc@monistroldecalders.cat
X-WR-TIMEZONE:Europe/Madrid
DESCRIPTION:Com cada any, el Casal l'Espiga col·labora amb larecaptació de beneficis per a la Marató de TV3.

URI:https://www.monistroldecalders.cat/actualitat/agenda/paradeta-per-la-marato-casal-lespiga.html
CLASS:PUBLIC
END:VEVENT
END:VCALENDAR
