BEGIN:VCALENDAR
VERSION:2.0
CALSCALE:GREGORIAN
PRODID:-//Diputació de Barcelona//DibaCMS//EN
BEGIN:VEVENT
UID:1948
DTSTAMP:20260426T053115
DTSTART:20210501T120000
DTEND:20210501T160000
SUMMARY:LAND-ART
LOCATION:MEANDRE DE POBLE AVALL 
METHOD:PUBLISH
X-WR-CALNAME:monistrolc@monistroldecalders.cat
X-WR-TIMEZONE:Europe/Madrid
DESCRIPTION:Aquest 1 de maig de 2021 a Monistrol reivindiquem el dia de les treballadores amb LAND-ART, ESCULTURES DE FERRO EN ESPAIS NATURALS!

Hi haurà vermut musical amb Pariéndola

URI:https://www.monistroldecalders.cat/actualitat/agenda/land-art.html
CLASS:PUBLIC
END:VEVENT
END:VCALENDAR
