BEGIN:VCALENDAR
VERSION:2.0
CALSCALE:GREGORIAN
PRODID:-//Diputació de Barcelona//DibaCMS//EN
BEGIN:VEVENT
UID:1950
DTSTAMP:20260426T053237
DTSTART:20210501T190000
DTEND:20210501T210000
SUMMARY:Espai d'Art Cal Ros
LOCATION:C/ Vinya, 15 08275 Monistrol de Calders
METHOD:PUBLISH
X-WR-CALNAME:monistrolc@monistroldecalders.cat
X-WR-TIMEZONE:Europe/Madrid
DESCRIPTION:INAUGURACIÓ

Tenim moltíssimes ganes que arribi dissabte perquè obrim la sala Cal Ros!

 L'encetarà l'artista TXEMA RICO amb l'exposició "La segona oportunitat"

 

URI:https://www.monistroldecalders.cat/actualitat/agenda/espai-dart-cal-ros.html
CLASS:PUBLIC
END:VEVENT
END:VCALENDAR
